BEGIN:VCALENDAR
VERSION:2.0
PRODID:-//The University Global Coalition - ECPv6.15.11//NONSGML v1.0//EN
CALSCALE:GREGORIAN
METHOD:PUBLISH
X-ORIGINAL-URL:https://universityglobalcoalition.org
X-WR-CALDESC:Events for The University Global Coalition
REFRESH-INTERVAL;VALUE=DURATION:PT1H
X-Robots-Tag:noindex
X-PUBLISHED-TTL:PT1H
BEGIN:VTIMEZONE
TZID:Asia/Baghdad
BEGIN:STANDARD
TZOFFSETFROM:+0300
TZOFFSETTO:+0300
TZNAME:+03
DTSTART:20240101T000000
END:STANDARD
END:VTIMEZONE
BEGIN:VTIMEZONE
TZID:America/New_York
BEGIN:DAYLIGHT
TZOFFSETFROM:-0500
TZOFFSETTO:-0400
TZNAME:EDT
DTSTART:20240310T070000
END:DAYLIGHT
BEGIN:STANDARD
TZOFFSETFROM:-0400
TZOFFSETTO:-0500
TZNAME:EST
DTSTART:20241103T060000
END:STANDARD
BEGIN:DAYLIGHT
TZOFFSETFROM:-0500
TZOFFSETTO:-0400
TZNAME:EDT
DTSTART:20250309T070000
END:DAYLIGHT
BEGIN:STANDARD
TZOFFSETFROM:-0400
TZOFFSETTO:-0500
TZNAME:EST
DTSTART:20251102T060000
END:STANDARD
BEGIN:DAYLIGHT
TZOFFSETFROM:-0500
TZOFFSETTO:-0400
TZNAME:EDT
DTSTART:20260308T070000
END:DAYLIGHT
BEGIN:STANDARD
TZOFFSETFROM:-0400
TZOFFSETTO:-0500
TZNAME:EST
DTSTART:20261101T060000
END:STANDARD
END:VTIMEZONE
BEGIN:VTIMEZONE
TZID:Europe/Madrid
BEGIN:DAYLIGHT
TZOFFSETFROM:+0100
TZOFFSETTO:+0200
TZNAME:CEST
DTSTART:20240331T010000
END:DAYLIGHT
BEGIN:STANDARD
TZOFFSETFROM:+0200
TZOFFSETTO:+0100
TZNAME:CET
DTSTART:20241027T010000
END:STANDARD
BEGIN:DAYLIGHT
TZOFFSETFROM:+0100
TZOFFSETTO:+0200
TZNAME:CEST
DTSTART:20250330T010000
END:DAYLIGHT
BEGIN:STANDARD
TZOFFSETFROM:+0200
TZOFFSETTO:+0100
TZNAME:CET
DTSTART:20251026T010000
END:STANDARD
BEGIN:DAYLIGHT
TZOFFSETFROM:+0100
TZOFFSETTO:+0200
TZNAME:CEST
DTSTART:20260329T010000
END:DAYLIGHT
BEGIN:STANDARD
TZOFFSETFROM:+0200
TZOFFSETTO:+0100
TZNAME:CET
DTSTART:20261025T010000
END:STANDARD
END:VTIMEZONE
BEGIN:VEVENT
DTSTART;TZID=Asia/Baghdad:20250303T100000
DTEND;TZID=Asia/Baghdad:20250303T130000
DTSTAMP:20260422T202923
CREATED:20241216T151134Z
LAST-MODIFIED:20250226T175512Z
UID:2197-1740996000-1741006800@universityglobalcoalition.org
SUMMARY:Women in Sustainable Development (in person\, presented in English/Kurdish) 10 am-1pm Arabian Standard Time
DESCRIPTION:Role of women in contributing to a sustainable for all\, sharing responsibilities in tackling social\, economic and environmental challenges in our communities. \nPresenters: \nPaiman Ahmad\nBestoon Othman\nRebwar Arsalan\nShwan Akoi \nEvent location: \nMain Campus\nConference Venue\nBasic Education College\n2nd Floor
URL:https://universityglobalcoalition.org/event/women-in-sustainable-development-in-person-presented-in-english-kurdish-10-am-1pm-arabian-standard-time/
CATEGORIES:Sustainable Development Goals Week
ATTACH;FMTTYPE=image/png:/wp-content/uploads/2024/12/2.png
ORGANIZER;CN="Paiman Ahmad":MAILTO:Paiman@uor.edu.krd
END:VEVENT
BEGIN:VEVENT
DTSTART;TZID=America/New_York:20250303T110000
DTEND;TZID=America/New_York:20250303T120000
DTSTAMP:20260422T202923
CREATED:20250220T153953Z
LAST-MODIFIED:20250220T155603Z
UID:2231-1740999600-1741003200@universityglobalcoalition.org
SUMMARY:Eco-Equality and Gender Equity: A panel of Millennium Fellows taking the lead
DESCRIPTION:The intersection of gender and climate action today addresses humanity’s most pressing issues in the 21st century. Environmental justice cannot be imagined without gender equity. An environmentally conscious world necessitates the importance of integrating gender perspectives into climate action. And to achieve gender equality we cannot gloss over the need to evaluate\, address and question the disproportionate effect of climate change over marginalized gender identities. \nJoin Millennium Campus Network’s Millennium Fellows from the Class of 2024 as they share the diversity of ways they advanced the sustainable development goals of climate action and gender equality. Focusing on collective action and sustainable solutions\, the event draws attention towards the interrelationship between achieving gender equality and climate action. This event will highlight how gender-responsive approaches can enhance the effectiveness of sustainability efforts and how climate action is unimaginable without addressing the ever increasing gender parity in their specific socio-political and economic contexts.\n————————————————————————-\nMillennium Campus Network (MCN) is a Boston-based\, global non-profit convening and training 21st-century social impact leaders to advance all 17 of the Sustainable Development Goals each year. Through the Millennium Fellowship and Millennium Oceans Prize\, MCN has helped 19\,000+ young leaders use their voices and power to make a difference on campus and in community. \n  \nAdrija Das\, Alumni Advisor\, Millennium Campus Network (organizer)\nSimran Kaur\, University Relations Manager\, Millennium Campus Network (organizer)\nAriel Ackermann\, Director of Career Services\, Millennium Campus Network (organizer)\nSiya Sindhe\, University of Mumbai\, India (moderator)\nMaryjane Johnpedoro\, Nile University\, Nigeria (panelist)\nHaniya Randhawa\, COMSATS University\, Pakistan (panelist)\nSonia Ugwunna\, University of Lagos\, Nigeria (panelist)\nAshley Young\, Columbia University\, USA (panelist) \nRegister: https://mcnsdgactionweek.paperform.co
URL:https://universityglobalcoalition.org/event/eco-equality-and-gender-equity-a-panel-of-millennium-fellows-taking-the-lead/
LOCATION:Virtual\, GA
CATEGORIES:Sustainable Development Goals Week
ATTACH;FMTTYPE=image/png:/wp-content/uploads/2025/02/EcoAwareness.png
ORGANIZER;CN="Adrija Das":MAILTO:adas@mcnpartners.org
END:VEVENT
BEGIN:VEVENT
DTSTART;TZID=Europe/Madrid:20250303T160000
DTEND;TZID=Europe/Madrid:20250303T173000
DTSTAMP:20260422T202923
CREATED:20250116T200215Z
LAST-MODIFIED:20250116T200501Z
UID:2202-1741017600-1741023000@universityglobalcoalition.org
SUMMARY:INSERLAB: Sharing student experiences at URV (presented in Catalan; 4-5.30 p.m. Central European Time)
DESCRIPTION:Join us for an engaging event where students from INSERLAB at Universitat Rovira i Virgili will share their personal experiences at the university. The session will highlight how their educational journey promotes inclusivity in higher education. This interactive event is part of a program funded by Fundación ONCE and Fundació Privada PortAventura. It will include presentations\, a discussion session\, and time for Q&A with attendees. \nPresenters:\nSandra Aymat – URV Student\nZaira Fernández – URV Student\nNadia Fernández – URV Student\nGuillermo Hernández – URV Student\nJoaquim Kuzel – URV Student\nMarc Rius – URV Student\nAser N. Ruiz – URV Student\nMohamed Sahnoun – URV Student\nMaria Salavert – URV Student\nAleix Solà – URV Student\nBerta Villarroya – URV Student \nTo Join: https://ja.cat/INSERLABGlobalCoalition  (presented in Catalan)
URL:https://universityglobalcoalition.org/event/inserlab-sharing-student-experiences-at-urv-presented-in-catalan-4-5-30-p-m-central-european-time/
CATEGORIES:Sustainable Development Goals Week
ATTACH;FMTTYPE=image/png:/wp-content/uploads/2025/01/Inserlab-Global-Coalition.png
ORGANIZER;CN="Teresa Torres":MAILTO:teresa.torres@urv.cat
END:VEVENT
END:VCALENDAR