BEGIN:VCALENDAR
VERSION:2.0
PRODID:-//The University Global Coalition - ECPv6.15.11//NONSGML v1.0//EN
CALSCALE:GREGORIAN
METHOD:PUBLISH
X-ORIGINAL-URL:https://universityglobalcoalition.org
X-WR-CALDESC:Events for The University Global Coalition
REFRESH-INTERVAL;VALUE=DURATION:PT1H
X-Robots-Tag:noindex
X-PUBLISHED-TTL:PT1H
BEGIN:VTIMEZONE
TZID:Asia/Tehran
BEGIN:STANDARD
TZOFFSETFROM:+0330
TZOFFSETTO:+0330
TZNAME:+0330
DTSTART:20240101T000000
END:STANDARD
END:VTIMEZONE
BEGIN:VTIMEZONE
TZID:Asia/Kolkata
BEGIN:STANDARD
TZOFFSETFROM:+0530
TZOFFSETTO:+0530
TZNAME:IST
DTSTART:20240101T000000
END:STANDARD
END:VTIMEZONE
BEGIN:VTIMEZONE
TZID:America/Los_Angeles
BEGIN:DAYLIGHT
TZOFFSETFROM:-0800
TZOFFSETTO:-0700
TZNAME:PDT
DTSTART:20240310T100000
END:DAYLIGHT
BEGIN:STANDARD
TZOFFSETFROM:-0700
TZOFFSETTO:-0800
TZNAME:PST
DTSTART:20241103T090000
END:STANDARD
BEGIN:DAYLIGHT
TZOFFSETFROM:-0800
TZOFFSETTO:-0700
TZNAME:PDT
DTSTART:20250309T100000
END:DAYLIGHT
BEGIN:STANDARD
TZOFFSETFROM:-0700
TZOFFSETTO:-0800
TZNAME:PST
DTSTART:20251102T090000
END:STANDARD
BEGIN:DAYLIGHT
TZOFFSETFROM:-0800
TZOFFSETTO:-0700
TZNAME:PDT
DTSTART:20260308T100000
END:DAYLIGHT
BEGIN:STANDARD
TZOFFSETFROM:-0700
TZOFFSETTO:-0800
TZNAME:PST
DTSTART:20261101T090000
END:STANDARD
END:VTIMEZONE
BEGIN:VTIMEZONE
TZID:Europe/Kyiv
BEGIN:DAYLIGHT
TZOFFSETFROM:+0200
TZOFFSETTO:+0300
TZNAME:EEST
DTSTART:20240331T010000
END:DAYLIGHT
BEGIN:STANDARD
TZOFFSETFROM:+0300
TZOFFSETTO:+0200
TZNAME:EET
DTSTART:20241027T010000
END:STANDARD
BEGIN:DAYLIGHT
TZOFFSETFROM:+0200
TZOFFSETTO:+0300
TZNAME:EEST
DTSTART:20250330T010000
END:DAYLIGHT
BEGIN:STANDARD
TZOFFSETFROM:+0300
TZOFFSETTO:+0200
TZNAME:EET
DTSTART:20251026T010000
END:STANDARD
BEGIN:DAYLIGHT
TZOFFSETFROM:+0200
TZOFFSETTO:+0300
TZNAME:EEST
DTSTART:20260329T010000
END:DAYLIGHT
BEGIN:STANDARD
TZOFFSETFROM:+0300
TZOFFSETTO:+0200
TZNAME:EET
DTSTART:20261025T010000
END:STANDARD
END:VTIMEZONE
BEGIN:VEVENT
DTSTART;TZID=Asia/Tehran:20250305T120000
DTEND;TZID=Asia/Tehran:20250305T160000
DTSTAMP:20260422T214247
CREATED:20250303T145309Z
LAST-MODIFIED:20250303T145500Z
UID:2284-1741176000-1741190400@universityglobalcoalition.org
SUMMARY:Shahid Beheshti University of Medical Sciences’s initiatives for the SDGs (English/Persian)
DESCRIPTION:Join us for an insightful webinar on how Shahid Beheshti University of Medical Sciences (SBMU) is contributing to the Sustainable Development Goals (SDGs) through research\, education\, healthcare services\, and student-led initiatives. This session will explore SBMU’s role in advancing sustainability\, fostering global partnerships\, and driving impactful projects aligned with the SDGs. Don’t miss this opportunity to learn and engage in meaningful discussions on the intersection of health\, education\, and sustainable development.\nWhat to expect:\n_Public Participation in Health: Experiences and Insights\n_Circular Economy as a Pathway to Sustainable Development Goals \nThis event is organized by the International Department of Shahid Beheshti University of Medical Sciences. \nTo Join: note.sbmu.ac.ir/calendar
URL:https://universityglobalcoalition.org/event/shahid-beheshti-university-of-medical-sciencess-initiatives-for-the-sdgs-english-persian/
CATEGORIES:Sustainable Development Goals Week
ORGANIZER;CN="Fatemeh Rafiee":MAILTO:intl.accreditation@sbmu.ac.ir
END:VEVENT
BEGIN:VEVENT
DTSTART;TZID=Asia/Kolkata:20250305T123000
DTEND;TZID=Asia/Kolkata:20250305T133000
DTSTAMP:20260422T214247
CREATED:20250306T144537Z
LAST-MODIFIED:20250306T145250Z
UID:2292-1741177800-1741181400@universityglobalcoalition.org
SUMMARY:Panel Discussion: Real life applications of Urban Forestry (English\, Hindi)
DESCRIPTION:The event aims to sensitize stakeholders on role of Urban Forestry in promoting sustainability.\nOrganizer: Panipat Institute of Engineering and Technology \nPanelist: \nProf. (Dr.) Shakti Kumar\, Director PIET\nProf. (Dr.) J.S.Saini\, Dean Engg.\, PIET\nProf. (Dr.) Suman Mann\, Head IQAC Cell\, PIET\nProf. (Dr.) Akhilesh Kumar Mishra\, Head\, DMS\, PIET\nProf. (Dr.) Shakti Arora\, Head\, Cyber Security\, PIET\nProf. (Dr.) Neeraj Gupta\, Head\, IT Dept\, PIET\nProf. (Dr.) Rohit Garg\, Head\, DBS\, PIET\nMr. Harshit Kakkar\, Industrialist (Panipat)\, India\nDr. Sonu Kumari\, Faculty Co-ordinator (SDGs)\, PIET\nDr. Richa Chodhary\, Faculty Co-ordinator (SDGs)\, PIET
URL:https://universityglobalcoalition.org/event/panel-discussion-real-life-applications-of-urban-forestry-english-hindi/
CATEGORIES:Sustainable Development Goals Week
ATTACH;FMTTYPE=image/jpeg:/wp-content/uploads/2025/03/Panipat.jpg
ORGANIZER;CN="Dr. Sonu Kumari":MAILTO:sonu.mba@piet.co.in
END:VEVENT
BEGIN:VEVENT
DTSTART;TZID=America/Los_Angeles:20250305T140000
DTEND;TZID=America/Los_Angeles:20250305T150000
DTSTAMP:20260422T214247
CREATED:20250223T233757Z
LAST-MODIFIED:20250226T175557Z
UID:2252-1741183200-1741186800@universityglobalcoalition.org
SUMMARY:Minerva University Sustainability Lab: Policy Pathways to Localizing SDG Action (2-3 pm PST)
DESCRIPTION:Progress on the SDGs is severely lagging\, calling for increased efforts to use SDGs to shape policy interventions. In this event\, students will share SDG-focused policy projects\, and the faculty of Minerva’s Sustainability Lab will present how our program helps students from around the globe learn how the policy making process can localize action on SDGs. \nAndy Dosmann\, PhD\, Professor of Natural Sciences\, Minerva University\nLevy Odera\, PhD\, Professor of Social Sciences\, Minerva University\nStudents in the Minerva Sustainability Lab based in Buenos Aires and Seoul\nSAYDS Fellows based in Kisumu and Nairobi \nTo Join: https://minerva-edu.zoom.us/j/94407514528?pwd=b8UTl5nD9IbT8bcmHiWZuWFE2iibuG.1\nMeeting ID: 944 0751 4528\nPasscode: 485354
URL:https://universityglobalcoalition.org/event/minerva-university-sustainability-lab-policy-pathways-to-localizing-sdg-action-2-3-pm-pst/
CATEGORIES:Sustainable Development Goals Week
ATTACH;FMTTYPE=image/png:/wp-content/uploads/2025/02/3.png
ORGANIZER;CN="Andy Dosmann":MAILTO:adosmann@minerva.edu
END:VEVENT
BEGIN:VEVENT
DTSTART;TZID=America/Los_Angeles:20250305T140000
DTEND;TZID=America/Los_Angeles:20250305T160000
DTSTAMP:20260422T214247
CREATED:20250305T173218Z
LAST-MODIFIED:20250305T180916Z
UID:2289-1741183200-1741190400@universityglobalcoalition.org
SUMMARY:Reusable Utensil Pouch Workshop at UC Davis (in person event)
DESCRIPTION:Join the UC Davis Office of Sustainability for this in-person\, two-hour workshop to learn about the United Nations Sustainable Development Goals (SDGs) and sew your own custom reusable utensil pouch! In this workshop\, you will learn the fundamentals of the SDGs\, design a unique utensil pouch using recycled materials\, and gain practical skills in sewing and mending textiles. \nRSVPs are REQUIRED and limited to the first 10 participants! Sign up here: https://tinyurl.com/4f5nu8w9
URL:https://universityglobalcoalition.org/event/reusable-utensil-pouch-workshop-at-uc-davis-in-person-event/
CATEGORIES:Sustainable Development Goals Week
ATTACH;FMTTYPE=image/png:/wp-content/uploads/2025/03/reusable-pouch.png
ORGANIZER;CN="Kaitlyn Kwan":MAILTO:kkwan-sust@ucdavis.edu
END:VEVENT
BEGIN:VEVENT
DTSTART;TZID=Europe/Kyiv:20250305T150000
DTEND;TZID=Europe/Kyiv:20250305T170000
DTSTAMP:20260422T214247
CREATED:20250301T162401Z
LAST-MODIFIED:20250301T162841Z
UID:2279-1741186800-1741194000@universityglobalcoalition.org
SUMMARY:The Integration of the SDGs into the Educational Process of UZHNU (in-person)
DESCRIPTION:The event is an opportunity to present developments and ideas for including specific goals in educational\, organizational and methodological processes at Uzhhorod National University. \n  \nHanna Melehanych\, Head of Sustainability Development Center\, Uzhhorod National University\nAntonina Bulyna\, deputy head of the Internatational Relations Department\, Uzhhorod National University \nNo registration is required. Offline: Uzhhorod\, Narodna Square\, 3\, Rectorate Building\, Small Academic Council Hall\, Floor 2. Online: https://meet.google.com/dhr-ksqx-gfi
URL:https://universityglobalcoalition.org/event/the-integration-of-the-sdgs-into-the-educational-process-of-uzhnu-in-person/
CATEGORIES:Sustainable Development Goals Week
ATTACH;FMTTYPE=image/jpeg:/wp-content/uploads/2025/03/Ukranianevent-scaled.jpg
ORGANIZER;CN="Hanna Melehanych":MAILTO:hanna.melehanych@uzhnu.edu.ua
END:VEVENT
END:VCALENDAR