BEGIN:VCALENDAR
VERSION:2.0
PRODID:-//The University Global Coalition - ECPv6.15.11//NONSGML v1.0//EN
CALSCALE:GREGORIAN
METHOD:PUBLISH
X-WR-CALNAME:The University Global Coalition
X-ORIGINAL-URL:https://universityglobalcoalition.org
X-WR-CALDESC:Events for The University Global Coalition
REFRESH-INTERVAL;VALUE=DURATION:PT1H
X-Robots-Tag:noindex
X-PUBLISHED-TTL:PT1H
BEGIN:VTIMEZONE
TZID:America/New_York
BEGIN:DAYLIGHT
TZOFFSETFROM:-0500
TZOFFSETTO:-0400
TZNAME:EDT
DTSTART:20240310T070000
END:DAYLIGHT
BEGIN:STANDARD
TZOFFSETFROM:-0400
TZOFFSETTO:-0500
TZNAME:EST
DTSTART:20241103T060000
END:STANDARD
BEGIN:DAYLIGHT
TZOFFSETFROM:-0500
TZOFFSETTO:-0400
TZNAME:EDT
DTSTART:20250309T070000
END:DAYLIGHT
BEGIN:STANDARD
TZOFFSETFROM:-0400
TZOFFSETTO:-0500
TZNAME:EST
DTSTART:20251102T060000
END:STANDARD
BEGIN:DAYLIGHT
TZOFFSETFROM:-0500
TZOFFSETTO:-0400
TZNAME:EDT
DTSTART:20260308T070000
END:DAYLIGHT
BEGIN:STANDARD
TZOFFSETFROM:-0400
TZOFFSETTO:-0500
TZNAME:EST
DTSTART:20261101T060000
END:STANDARD
END:VTIMEZONE
BEGIN:VTIMEZONE
TZID:America/Chicago
BEGIN:DAYLIGHT
TZOFFSETFROM:-0600
TZOFFSETTO:-0500
TZNAME:CDT
DTSTART:20240310T080000
END:DAYLIGHT
BEGIN:STANDARD
TZOFFSETFROM:-0500
TZOFFSETTO:-0600
TZNAME:CST
DTSTART:20241103T070000
END:STANDARD
BEGIN:DAYLIGHT
TZOFFSETFROM:-0600
TZOFFSETTO:-0500
TZNAME:CDT
DTSTART:20250309T080000
END:DAYLIGHT
BEGIN:STANDARD
TZOFFSETFROM:-0500
TZOFFSETTO:-0600
TZNAME:CST
DTSTART:20251102T070000
END:STANDARD
BEGIN:DAYLIGHT
TZOFFSETFROM:-0600
TZOFFSETTO:-0500
TZNAME:CDT
DTSTART:20260308T080000
END:DAYLIGHT
BEGIN:STANDARD
TZOFFSETFROM:-0500
TZOFFSETTO:-0600
TZNAME:CST
DTSTART:20261101T070000
END:STANDARD
END:VTIMEZONE
BEGIN:VTIMEZONE
TZID:Asia/Kolkata
BEGIN:STANDARD
TZOFFSETFROM:+0530
TZOFFSETTO:+0530
TZNAME:IST
DTSTART:20240101T000000
END:STANDARD
END:VTIMEZONE
BEGIN:VEVENT
DTSTART;TZID=America/New_York:20250303T090000
DTEND;TZID=America/New_York:20250303T093000
DTSTAMP:20260422T192112
CREATED:20250217T185350Z
LAST-MODIFIED:20250226T182634Z
UID:2216-1740992400-1740994200@universityglobalcoalition.org
SUMMARY:UGC SDG Week Kick-Off Session
DESCRIPTION:Join us from 9.00-9.30 a.m. EST on the first day of SDG Week to learn about SDG Week\, hear about collaborative efforts taking place across UGC\, and celebrate our work together. \nThis session will explore how universities can bridge gaps between knowledge and implementation\, research and practice\, and institutions across different regions to drive sustainable development. It will highlight collaborative initiatives led by  EARTH University\, UC Davis\, and partners\, as well as strategies to incorporate the SDGs into university planning and incentivize faculty participation. \nSpeakers: \nArturo Condo\, President\, EARTH University and Chair\, University Global Coalition \nJoanna Regulska\, Vice Provost and Dean of Global Affairs and Distinguished Professor of Gender\, Sexuality and Women’s Studies \n\nRegister: https://gatech.zoom.us/meeting/register/eWCuTTTITFWxwe3M1-RJ-w
URL:https://universityglobalcoalition.org/event/ugc-sdg-week-kick-off-session/
LOCATION:Virtual\, GA
CATEGORIES:Sustainable Development Goals Week
ATTACH;FMTTYPE=image/png:/wp-content/uploads/2025/02/kickoff.png
END:VEVENT
BEGIN:VEVENT
DTSTART;TZID=America/Chicago:20250304T130000
DTEND;TZID=America/Chicago:20250304T140000
DTSTAMP:20260422T192112
CREATED:20250220T143159Z
LAST-MODIFIED:20250226T144108Z
UID:2221-1741093200-1741096800@universityglobalcoalition.org
SUMMARY:Hermosillo como referente internacional en sostenibilidad: Innovación\, colaboración y acción climática para el futuro (1-2 pm CST)
DESCRIPTION:The event will present an opportunity to discuss how the city of Hermosillo\, Sonora\, México has become an international benchmark in sustainability and how the students at Tecnológico de Monterrey have collaborated to achieve this goal. \nAna Paula Villalvazo Carrillo\, Representative of Ruta Azul (Bachelor) Tecnológico de Monterrey\, Campus Sonora Norte\nPaula Carolina Estrella Torres\, Representative of Ruta Azul (Highschool) Tecnológico de Monterrey\, Campus Sonora Norte \nLink to register: https://itesm.zoom.us/meeting/register/JBm5sGmhQ12BX1dtrToSkw
URL:https://universityglobalcoalition.org/event/hermosillo-como-referente-internacional-en-sostenibilidad-innovacion-colaboracion-y-accion-climatica-para-el-futuro/
CATEGORIES:Sustainable Development Goals Week
ATTACH;FMTTYPE=image/png:/wp-content/uploads/2025/02/Hermosillo-referente-sostenibilidad.png
ORGANIZER;CN="Ana Paula Villalvazo Carrillo":MAILTO:A01253904@tec.mx
END:VEVENT
BEGIN:VEVENT
DTSTART;TZID=America/Chicago:20250305T093000
DTEND;TZID=America/Chicago:20250305T130000
DTSTAMP:20260422T192112
CREATED:20250221T144919Z
LAST-MODIFIED:20250221T174413Z
UID:2241-1741167000-1741179600@universityglobalcoalition.org
SUMMARY:Mi Universidad Sin Residuos (Español; 9.30 am-1pm CST)
DESCRIPTION:Time: 9.30 am -1 pm CST \nEvento de inicio y presentación a la comunidad estudiantil del proyecto “Mi Universidad Sin Residuos”\, en donde descubrirán el propósito\, impacto e información del reciclaje para sumarse y convertirse en verdaderos agentes de cambio. La colaboración es llevada a cabo en conjunto con la empresa embotelladora y recicladora “Bepensa”\, donde igualmente se compartirán sus acciones y planes a futuro en sinergia con la Universidad Anáhuac Mayab dentro de sus instalaciones.\nEl evento se encuentra dividido en tres segmentos:\n1.- Presentación del proyecto\n2.- Presentación y Reconocimiento del Comité de Sustentabilidad de la Universidad Anáhuac Mayab\n3.- Experiencia de Realidad Virtual en PetStar y Actividades Interactivas \nUniversidad Anáhuac Mayab \nSala de Conferencias edificio 3\, Universidad Anáhuac Mayab\, Mérida\, Yucatán\, México \nVíctor Ávila —– Profesor\, Director de Visión Global y Sostenibilidad Universidad Anáhuac Mayab. Miembro del Comité representante de la firma del Convenio\nDiana González ———– Ingeniera ambiental\, Profesora de planta de la Universidad Anáhuac Mayab y miembro de Comité representante de la firma del convenio\nDiana Luna McCarthy —— Directora de Innovación de la Universidad Anáhuac Mayab\nAgustín Méndez ——- Gerente de Asuntos Corporativos Bepensa\nCarlos Báez —– Alumno\, Auxiliar de dirección de Visión Global y Sostenibilidad Universidad Anáhuac Mayab\nTomás Vila —– Alumno\, Auxiliar de dirección de Visión Global y Sostenibilidad Universidad Anáhuac Mayab\nValentín Cárdenas —– Auxiliar de dirección de Visión Global y Sostenibilidad Universidad Anáhuac Mayab\nÁngela Jarvio —– Alumno\, Auxiliar de dirección de Visión Global y Sostenibilidad Universidad Anáhuac Mayab\nJesús Moreno—– Alumno\, Auxiliar de dirección de Visión Global y Sostenibilidad Universidad Anáhuac Mayab
URL:https://universityglobalcoalition.org/event/mi-universidad-sin-residuos-espanol-9-30-am-1pm-cst/
LOCATION:Sala de Conferencias edificio 3\, Universidad Anáhuac Mayab\, Mérida\, Yucatán\, México
CATEGORIES:Sustainable Development Goals Week
ATTACH;FMTTYPE=image/png:/wp-content/uploads/2025/02/Flyer-Mi-Universidad-Sin-Residuos.png
END:VEVENT
BEGIN:VEVENT
DTSTART;TZID=America/New_York:20250305T110000
DTEND;TZID=America/New_York:20250305T120000
DTSTAMP:20260422T192112
CREATED:20250221T164200Z
LAST-MODIFIED:20250226T174559Z
UID:2244-1741172400-1741176000@universityglobalcoalition.org
SUMMARY:Launch of Local Futures: Communities Collaborating for the Sustainable Development Goals (in person and virtual)
DESCRIPTION:Canadian communities face a number of urgent economic\, social\, and environmental challenges that will reverberate for decades to come. Health pandemics and inadequate local health systems\, climate-induced disaster\, and new economic models based on artificial intelligence are but a few of the major transformations our communities face today. \nJoin us as we launch the Local Futures project\, exploring how universities\, municipalities\, and community organizations can work collectively to leverage the Sustainable Development Goals and drive impact towards creating a more prosperous and sustainable future. \nEvent Registration and Information: https://local-futures-launch.eventbrite.ca/ \nJon Beale (moderator) – Program Director of Local Futures\, Conrad Grebel University College\nJulie Wright – Ward 7 Councillor\, City of Waterloo + National Director\, Our Living Waters\nRandy Sa’d – Executive Director\, REFOCUS\nLisa Attygalle\, Consulting Director of Community Engagement\, Tamarack Institute
URL:https://universityglobalcoalition.org/event/launch-of-local-futures-communities-collaborating-for-the-sustainable-development-goals-in-person-and-virtual/
CATEGORIES:Sustainable Development Goals Week
ATTACH;FMTTYPE=image/png:/wp-content/uploads/2025/02/Local-Futures-Launch-square.png
ORGANIZER;CN="Laura Carr-Pries":MAILTO:laura.carr-pries@uwaterloo.ca
END:VEVENT
BEGIN:VEVENT
DTSTART;TZID=Asia/Kolkata:20250305T123000
DTEND;TZID=Asia/Kolkata:20250305T133000
DTSTAMP:20260422T192112
CREATED:20250306T144537Z
LAST-MODIFIED:20250306T145250Z
UID:2292-1741177800-1741181400@universityglobalcoalition.org
SUMMARY:Panel Discussion: Real life applications of Urban Forestry (English\, Hindi)
DESCRIPTION:The event aims to sensitize stakeholders on role of Urban Forestry in promoting sustainability.\nOrganizer: Panipat Institute of Engineering and Technology \nPanelist: \nProf. (Dr.) Shakti Kumar\, Director PIET\nProf. (Dr.) J.S.Saini\, Dean Engg.\, PIET\nProf. (Dr.) Suman Mann\, Head IQAC Cell\, PIET\nProf. (Dr.) Akhilesh Kumar Mishra\, Head\, DMS\, PIET\nProf. (Dr.) Shakti Arora\, Head\, Cyber Security\, PIET\nProf. (Dr.) Neeraj Gupta\, Head\, IT Dept\, PIET\nProf. (Dr.) Rohit Garg\, Head\, DBS\, PIET\nMr. Harshit Kakkar\, Industrialist (Panipat)\, India\nDr. Sonu Kumari\, Faculty Co-ordinator (SDGs)\, PIET\nDr. Richa Chodhary\, Faculty Co-ordinator (SDGs)\, PIET
URL:https://universityglobalcoalition.org/event/panel-discussion-real-life-applications-of-urban-forestry-english-hindi/
CATEGORIES:Sustainable Development Goals Week
ATTACH;FMTTYPE=image/jpeg:/wp-content/uploads/2025/03/Panipat.jpg
ORGANIZER;CN="Dr. Sonu Kumari":MAILTO:sonu.mba@piet.co.in
END:VEVENT
BEGIN:VEVENT
DTSTART;TZID=Asia/Kolkata:20250307T160000
DTEND;TZID=Asia/Kolkata:20250307T170000
DTSTAMP:20260422T192112
CREATED:20250226T175130Z
LAST-MODIFIED:20250226T175200Z
UID:2260-1741363200-1741366800@universityglobalcoalition.org
SUMMARY:SDG Goal 17
DESCRIPTION:Overview of SDG goals\, SDG 17 lecture. \n  \nProf (Dr) T V Suresh Kumar\, Advisor to Pro Chancellor –  Aditya University\, Kakinada \, Andhra Pradesh\, India \n  \nRegister: https://tinyurl.com/mtke59fw
URL:https://universityglobalcoalition.org/event/sdg-goal-17/
CATEGORIES:Sustainable Development Goals Week
END:VEVENT
BEGIN:VEVENT
DTSTART;TZID=America/Chicago:20250310T120000
DTEND;TZID=America/Chicago:20250310T150000
DTSTAMP:20260422T192112
CREATED:20250220T153115Z
LAST-MODIFIED:20250226T151233Z
UID:2228-1741608000-1741618800@universityglobalcoalition.org
SUMMARY:Biomímética\, Océanos y Bioética en procesos de Desarrollo sustentable (12.00-15.00 CST)
DESCRIPTION:Discover how nature inspires sustainability! Join us on this webinar on biomimicry\, oceans\, and bioethics for a sustainable future. \nPresented in Spanish \n• Mariana Berenice Reyna Fabian\, Coordinadora de Ciencia\, Oceana en México\n• Raúl Héctor Rodríguez Otero\n• Marilyn Mendoza Ramírez\, Tecnológico de Monterrey Campus Santa Fe \n  \nRegister: https://itesm.zoom.us/meeting/register/SmJ-LMJeSMqu3K2HZcVT-Q \nHours: 12.00-15.00 CST
URL:https://universityglobalcoalition.org/event/biomimetica-oceanos-y-bioetica-en-procesos-de-desarrollo-sustentable-12-00-15-00-cst/
CATEGORIES:Sustainable Development Goals Week
ATTACH;FMTTYPE=image/png:/wp-content/uploads/2025/02/Biomimetica-Oceanos-y-Bioetica-en-procesos-de-Desarrollo-sustentable.png
ORGANIZER;CN="Marilyn Mendoza Ram%C3%ADrez":MAILTO:marilyn.mendoza@tec.mx
END:VEVENT
END:VCALENDAR