BEGIN:VCALENDAR
VERSION:2.0
PRODID:-//The University Global Coalition - ECPv6.15.11//NONSGML v1.0//EN
CALSCALE:GREGORIAN
METHOD:PUBLISH
X-WR-CALNAME:The University Global Coalition
X-ORIGINAL-URL:https://universityglobalcoalition.org
X-WR-CALDESC:Events for The University Global Coalition
REFRESH-INTERVAL;VALUE=DURATION:PT1H
X-Robots-Tag:noindex
X-PUBLISHED-TTL:PT1H
BEGIN:VTIMEZONE
TZID:America/New_York
BEGIN:DAYLIGHT
TZOFFSETFROM:-0500
TZOFFSETTO:-0400
TZNAME:EDT
DTSTART:20220313T070000
END:DAYLIGHT
BEGIN:STANDARD
TZOFFSETFROM:-0400
TZOFFSETTO:-0500
TZNAME:EST
DTSTART:20221106T060000
END:STANDARD
BEGIN:DAYLIGHT
TZOFFSETFROM:-0500
TZOFFSETTO:-0400
TZNAME:EDT
DTSTART:20230312T070000
END:DAYLIGHT
BEGIN:STANDARD
TZOFFSETFROM:-0400
TZOFFSETTO:-0500
TZNAME:EST
DTSTART:20231105T060000
END:STANDARD
BEGIN:DAYLIGHT
TZOFFSETFROM:-0500
TZOFFSETTO:-0400
TZNAME:EDT
DTSTART:20240310T070000
END:DAYLIGHT
BEGIN:STANDARD
TZOFFSETFROM:-0400
TZOFFSETTO:-0500
TZNAME:EST
DTSTART:20241103T060000
END:STANDARD
END:VTIMEZONE
BEGIN:VEVENT
DTSTART;TZID=America/New_York:20230308T093000
DTEND;TZID=America/New_York:20230308T200000
DTSTAMP:20260424T230821
CREATED:20230228T201519Z
LAST-MODIFIED:20230228T201541Z
UID:1856-1678267800-1678305600@universityglobalcoalition.org
SUMMARY:Conferencia ODS en el Tec: “Los Objetivos de Desarrollo Sostenible a la mitad del camino”
DESCRIPTION:Tec de Monterrey\, through the SDGs Initiative\, will host the Conference “The SDGs at the crossroads”\, where participants will discuss the progress and remaining challenges to achieve the SDGs by 2030. The conference will have keynote speakers and panels dedicated to each dimension of sustainable development.\nWhile the event has a reduced number of in-person participants\, you can follow the discussions on-line. \nPresenters: \nDavid Garza\, Executive President of Tec de Monterrey; Jeffrey Sachs\, President of UN Sustainable\nDevelopment Solutions Network; Patricia Espinosa\, Former Executive Secretary UNFCCC; Gabriel Yorio\, Deputy Finance Minister; Rolando Ocampo\, Director of Statistics Department ECLAC; Leticia Bonifaz\, Mexican expert of CEDAW Committee; among others. \nEvents will primarily be held in Spanish. \nRegister: https://itesm.zoom.us/webinar/register/WN_cQaDWMtER6CKkkGLQZb2tQ
URL:https://universityglobalcoalition.org/event/conferencia-ods-en-el-tec-los-objetivos-de-desarrollo-sostenible-a-la-mitad-del-camino/
LOCATION:Virtual\, GA
ATTACH;FMTTYPE=image/jpeg:/wp-content/uploads/2023/02/13-programa.jpg
ORGANIZER;CN="Karina Ruiz":MAILTO:karinam.ruiza@tec.mx
END:VEVENT
END:VCALENDAR