BEGIN:VCALENDAR
VERSION:2.0
PRODID:-//The University Global Coalition - ECPv6.15.11//NONSGML v1.0//EN
CALSCALE:GREGORIAN
METHOD:PUBLISH
X-ORIGINAL-URL:https://universityglobalcoalition.org
X-WR-CALDESC:Events for The University Global Coalition
REFRESH-INTERVAL;VALUE=DURATION:PT1H
X-Robots-Tag:noindex
X-PUBLISHED-TTL:PT1H
BEGIN:VTIMEZONE
TZID:America/New_York
BEGIN:DAYLIGHT
TZOFFSETFROM:-0500
TZOFFSETTO:-0400
TZNAME:EDT
DTSTART:20220313T070000
END:DAYLIGHT
BEGIN:STANDARD
TZOFFSETFROM:-0400
TZOFFSETTO:-0500
TZNAME:EST
DTSTART:20221106T060000
END:STANDARD
BEGIN:DAYLIGHT
TZOFFSETFROM:-0500
TZOFFSETTO:-0400
TZNAME:EDT
DTSTART:20230312T070000
END:DAYLIGHT
BEGIN:STANDARD
TZOFFSETFROM:-0400
TZOFFSETTO:-0500
TZNAME:EST
DTSTART:20231105T060000
END:STANDARD
BEGIN:DAYLIGHT
TZOFFSETFROM:-0500
TZOFFSETTO:-0400
TZNAME:EDT
DTSTART:20240310T070000
END:DAYLIGHT
BEGIN:STANDARD
TZOFFSETFROM:-0400
TZOFFSETTO:-0500
TZNAME:EST
DTSTART:20241103T060000
END:STANDARD
END:VTIMEZONE
BEGIN:VEVENT
DTSTART;TZID=America/New_York:20230310T080000
DTEND;TZID=America/New_York:20230310T170000
DTSTAMP:20260424T231127
CREATED:20230220T191126Z
LAST-MODIFIED:20230307T171308Z
UID:1823-1678435200-1678467600@universityglobalcoalition.org
SUMMARY:About the Student Sustainability Summit: Hosting an SDG-focused\, multi-institutional student mini-conference (recorded)
DESCRIPTION:The Sustainable Shenandoah Valley (SSV) Regional Centre of Expertise for Sustainable Development (RCE) will showcase a student-planned and student-led annual event called the Student Sustainability Summit. This annual event highlights student research and projects that relate to one or more of the Sustainable Development Goals\, bringing together students from five regional institutions of higher education in a conference-style event to present their work\, network\, and collaborate with one another and with community activists. For this webinar\, Ms. Heather Korzun\, a student at Mary Baldwin University\, and Ms. Carol Lena Miller\, representing SSV at James Madison University\, will describe how the Student Sustainability Summit is organized and implemented\, providing practical advice and resources to potentially host a similar event in your own community. The format is an on-demanded recorded interview that will be available beginning March 6. \nMs. Heather Korzun\, student\, Mary Baldwin University\nMs. Carol Lena Miller\, Sustainability and Environment Associate\, James Madison University \nVIEW THE RECORDING HERE!
URL:https://universityglobalcoalition.org/event/about-the-student-sustainability-summit-hosting-an-sdg-focused-multi-institutional-student-mini-conference-recorded/
LOCATION:Virtual\, GA
ATTACH;FMTTYPE=image/png:/wp-content/uploads/2023/02/STUDENT-SUSTAINABILITY-SUMMIT.png
ORGANIZER;CN="Carol Lena Miller":MAILTO:millercl@jmu.edu
END:VEVENT
BEGIN:VEVENT
DTSTART;TZID=America/New_York:20230310T110000
DTEND;TZID=America/New_York:20230310T130000
DTSTAMP:20260424T231127
CREATED:20230221T135330Z
LAST-MODIFIED:20230221T135401Z
UID:1826-1678446000-1678453200@universityglobalcoalition.org
SUMMARY:Mental Health as an SDG: From Theory into Action
DESCRIPTION:Mental health has increasingly become a priority issue on international development agendas. It is a key component of health and wellbeing\, worker safety\, housing\, inclusivity\, discrimination and climate change. As part of the SDG agenda\, mental health awareness must be integrated in a comprehensive manner\, impacting our approach to multiple SDGs. \nStudent Mental Health Startup Engage You(th) will share their experience creating a grassroots intervention that tackles mental health in their community. This will be followed by an interactive discussion about promoting Mental Health awareness and integrating SDG approaches. \nAriel Zhao – NYU\, Harvard\, Engage You(th) – Co-founder\, Chief Executive Officer\nSohee Lee – NYU\, Engage You(th) – Co-founder\, Chief Operations Officer\nAli Adnan – NYU\, Engage You(th) – Co-founder\, Chief Programming Officer\nRuo Yang – NYU\, Engage You(th) – Social Media and Website Director\nJaclyn Ha – NYU\, Engage You(th) – Outreach Manager\nZoey Meng – NYU\, Engage You(th) – Outreach Manager\n———————————————————————-\nHosted by student startup ENGAGE You(th) \nRegister: https://docs.google.com/forms/d/e/1FAIpQLScHF5N36RvKaecUtEn7qFQHmYB8yhrJo9ky5YQBvn8_y_e5gw/viewform?usp=share_link
URL:https://universityglobalcoalition.org/event/mental-health-as-an-sdg-from-theory-into-action/
LOCATION:Virtual\, GA
ATTACH;FMTTYPE=image/png:/wp-content/uploads/2023/02/Mental-Health-SGG-Engage-Youth.png
ORGANIZER;CN="Ariel Zhao":MAILTO:bz1131@nyu.edu
END:VEVENT
END:VCALENDAR