BEGIN:VCALENDAR
VERSION:2.0
PRODID:-//The University Global Coalition - ECPv6.15.11//NONSGML v1.0//EN
CALSCALE:GREGORIAN
METHOD:PUBLISH
X-WR-CALNAME:The University Global Coalition
X-ORIGINAL-URL:https://universityglobalcoalition.org
X-WR-CALDESC:Events for The University Global Coalition
REFRESH-INTERVAL;VALUE=DURATION:PT1H
X-Robots-Tag:noindex
X-PUBLISHED-TTL:PT1H
BEGIN:VTIMEZONE
TZID:America/New_York
BEGIN:DAYLIGHT
TZOFFSETFROM:-0500
TZOFFSETTO:-0400
TZNAME:EDT
DTSTART:20240310T070000
END:DAYLIGHT
BEGIN:STANDARD
TZOFFSETFROM:-0400
TZOFFSETTO:-0500
TZNAME:EST
DTSTART:20241103T060000
END:STANDARD
BEGIN:DAYLIGHT
TZOFFSETFROM:-0500
TZOFFSETTO:-0400
TZNAME:EDT
DTSTART:20250309T070000
END:DAYLIGHT
BEGIN:STANDARD
TZOFFSETFROM:-0400
TZOFFSETTO:-0500
TZNAME:EST
DTSTART:20251102T060000
END:STANDARD
BEGIN:DAYLIGHT
TZOFFSETFROM:-0500
TZOFFSETTO:-0400
TZNAME:EDT
DTSTART:20260308T070000
END:DAYLIGHT
BEGIN:STANDARD
TZOFFSETFROM:-0400
TZOFFSETTO:-0500
TZNAME:EST
DTSTART:20261101T060000
END:STANDARD
END:VTIMEZONE
BEGIN:VEVENT
DTSTART;TZID=America/New_York:20250303T090000
DTEND;TZID=America/New_York:20250303T093000
DTSTAMP:20260422T204916
CREATED:20250217T185350Z
LAST-MODIFIED:20250226T182634Z
UID:2216-1740992400-1740994200@universityglobalcoalition.org
SUMMARY:UGC SDG Week Kick-Off Session
DESCRIPTION:Join us from 9.00-9.30 a.m. EST on the first day of SDG Week to learn about SDG Week\, hear about collaborative efforts taking place across UGC\, and celebrate our work together. \nThis session will explore how universities can bridge gaps between knowledge and implementation\, research and practice\, and institutions across different regions to drive sustainable development. It will highlight collaborative initiatives led by  EARTH University\, UC Davis\, and partners\, as well as strategies to incorporate the SDGs into university planning and incentivize faculty participation. \nSpeakers: \nArturo Condo\, President\, EARTH University and Chair\, University Global Coalition \nJoanna Regulska\, Vice Provost and Dean of Global Affairs and Distinguished Professor of Gender\, Sexuality and Women’s Studies \n\nRegister: https://gatech.zoom.us/meeting/register/eWCuTTTITFWxwe3M1-RJ-w
URL:https://universityglobalcoalition.org/event/ugc-sdg-week-kick-off-session/
LOCATION:Virtual\, GA
CATEGORIES:Sustainable Development Goals Week
ATTACH;FMTTYPE=image/png:/wp-content/uploads/2025/02/kickoff.png
END:VEVENT
END:VCALENDAR