BEGIN:VCALENDAR
VERSION:2.0
PRODID:-//The University Global Coalition - ECPv6.15.11//NONSGML v1.0//EN
CALSCALE:GREGORIAN
METHOD:PUBLISH
X-ORIGINAL-URL:https://universityglobalcoalition.org
X-WR-CALDESC:Events for The University Global Coalition
REFRESH-INTERVAL;VALUE=DURATION:PT1H
X-Robots-Tag:noindex
X-PUBLISHED-TTL:PT1H
BEGIN:VTIMEZONE
TZID:Asia/Kolkata
BEGIN:STANDARD
TZOFFSETFROM:+0530
TZOFFSETTO:+0530
TZNAME:IST
DTSTART:20240101T000000
END:STANDARD
END:VTIMEZONE
BEGIN:VEVENT
DTSTART;TZID=Asia/Kolkata:20250307T160000
DTEND;TZID=Asia/Kolkata:20250307T170000
DTSTAMP:20260422T205558
CREATED:20250226T175130Z
LAST-MODIFIED:20250226T175200Z
UID:2260-1741363200-1741366800@universityglobalcoalition.org
SUMMARY:SDG Goal 17
DESCRIPTION:Overview of SDG goals\, SDG 17 lecture. \n  \nProf (Dr) T V Suresh Kumar\, Advisor to Pro Chancellor –  Aditya University\, Kakinada \, Andhra Pradesh\, India \n  \nRegister: https://tinyurl.com/mtke59fw
URL:https://universityglobalcoalition.org/event/sdg-goal-17/
CATEGORIES:Sustainable Development Goals Week
END:VEVENT
END:VCALENDAR